BEGIN:VCALENDAR
VERSION:2.0
PRODID:-//Family Fellowship Night - ECPv6.15.20//NONSGML v1.0//EN
CALSCALE:GREGORIAN
METHOD:PUBLISH
X-ORIGINAL-URL:https://familyfellowshipnight.com
X-WR-CALDESC:Events for Family Fellowship Night
REFRESH-INTERVAL;VALUE=DURATION:PT1H
X-Robots-Tag:noindex
X-PUBLISHED-TTL:PT1H
BEGIN:VTIMEZONE
TZID:America/Chicago
BEGIN:DAYLIGHT
TZOFFSETFROM:-0600
TZOFFSETTO:-0500
TZNAME:CDT
DTSTART:20240310T080000
END:DAYLIGHT
BEGIN:STANDARD
TZOFFSETFROM:-0500
TZOFFSETTO:-0600
TZNAME:CST
DTSTART:20241103T070000
END:STANDARD
BEGIN:DAYLIGHT
TZOFFSETFROM:-0600
TZOFFSETTO:-0500
TZNAME:CDT
DTSTART:20250309T080000
END:DAYLIGHT
BEGIN:STANDARD
TZOFFSETFROM:-0500
TZOFFSETTO:-0600
TZNAME:CST
DTSTART:20251102T070000
END:STANDARD
BEGIN:DAYLIGHT
TZOFFSETFROM:-0600
TZOFFSETTO:-0500
TZNAME:CDT
DTSTART:20260308T080000
END:DAYLIGHT
BEGIN:STANDARD
TZOFFSETFROM:-0500
TZOFFSETTO:-0600
TZNAME:CST
DTSTART:20261101T070000
END:STANDARD
BEGIN:DAYLIGHT
TZOFFSETFROM:-0600
TZOFFSETTO:-0500
TZNAME:CDT
DTSTART:20270314T080000
END:DAYLIGHT
BEGIN:STANDARD
TZOFFSETFROM:-0500
TZOFFSETTO:-0600
TZNAME:CST
DTSTART:20271107T070000
END:STANDARD
END:VTIMEZONE
BEGIN:VEVENT
DTSTART;TZID=America/Chicago:20250412T163000
DTEND;TZID=America/Chicago:20250412T210000
DTSTAMP:20260425T055127
CREATED:20250303T145021Z
LAST-MODIFIED:20250303T145021Z
UID:1367-1744475400-1744491600@familyfellowshipnight.com
SUMMARY:April Family Fellowship Night
DESCRIPTION:
URL:https://familyfellowshipnight.com/event/april-family-fellowship-night-2/
LOCATION:Hasic’s Home\, 5022 Laura Lane\, Woodworth\, LA\, 71485\, United States
CATEGORIES:Family Fellowship Night
END:VEVENT
BEGIN:VEVENT
DTSTART;TZID=America/Chicago:20250607T163000
DTEND;TZID=America/Chicago:20250607T213000
DTSTAMP:20260425T055127
CREATED:20250603T145521Z
LAST-MODIFIED:20250603T145609Z
UID:1373-1749313800-1749331800@familyfellowshipnight.com
SUMMARY:June Family Fellowship Night
DESCRIPTION:
URL:https://familyfellowshipnight.com/event/june-family-fellowship-night-2/
LOCATION:Hasic’s Home\, 5022 Laura Lane\, Woodworth\, LA\, 71485\, United States
CATEGORIES:Family Fellowship Night
ATTACH;FMTTYPE=image/jpeg:https://familyfellowshipnight.com/wp-content/uploads/2025/06/June-2025-FFN.webp
END:VEVENT
BEGIN:VEVENT
DTSTART;TZID=America/Chicago:20250802T173000
DTEND;TZID=America/Chicago:20250802T210000
DTSTAMP:20260425T055127
CREATED:20250731T004419Z
LAST-MODIFIED:20250731T004419Z
UID:1381-1754155800-1754168400@familyfellowshipnight.com
SUMMARY:August Family Fellowship Night
DESCRIPTION:
URL:https://familyfellowshipnight.com/event/august-family-fellowship-night-2/
LOCATION:Hasic’s Home\, 5022 Laura Lane\, Woodworth\, LA\, 71485\, United States
CATEGORIES:Family Fellowship Night
ATTACH;FMTTYPE=image/png:https://familyfellowshipnight.com/wp-content/uploads/2025/07/August-Family-Fellowship-Night.webp
END:VEVENT
BEGIN:VEVENT
DTSTART;TZID=America/Chicago:20260314T163000
DTEND;TZID=America/Chicago:20260314T203000
DTSTAMP:20260425T055127
CREATED:20260227T213331Z
LAST-MODIFIED:20260227T213332Z
UID:1409-1773505800-1773520200@familyfellowshipnight.com
SUMMARY:March Family Fellowship Night
DESCRIPTION:
URL:https://familyfellowshipnight.com/event/march-family-fellowship-night-2/
LOCATION:Hasic’s Home\, 5022 Laura Lane\, Woodworth\, LA\, 71485\, United States
CATEGORIES:Family Fellowship Night
ATTACH;FMTTYPE=image/jpeg:https://familyfellowshipnight.com/wp-content/uploads/2026/02/March-14.avif
END:VEVENT
END:VCALENDAR