BEGIN:VCALENDAR
VERSION:2.0
PRODID:-//Family Fellowship Night - ECPv6.15.20//NONSGML v1.0//EN
CALSCALE:GREGORIAN
METHOD:PUBLISH
X-ORIGINAL-URL:https://familyfellowshipnight.com
X-WR-CALDESC:Events for Family Fellowship Night
REFRESH-INTERVAL;VALUE=DURATION:PT1H
X-Robots-Tag:noindex
X-PUBLISHED-TTL:PT1H
BEGIN:VTIMEZONE
TZID:America/Chicago
BEGIN:DAYLIGHT
TZOFFSETFROM:-0600
TZOFFSETTO:-0500
TZNAME:CDT
DTSTART:20230312T080000
END:DAYLIGHT
BEGIN:STANDARD
TZOFFSETFROM:-0500
TZOFFSETTO:-0600
TZNAME:CST
DTSTART:20231105T070000
END:STANDARD
BEGIN:DAYLIGHT
TZOFFSETFROM:-0600
TZOFFSETTO:-0500
TZNAME:CDT
DTSTART:20240310T080000
END:DAYLIGHT
BEGIN:STANDARD
TZOFFSETFROM:-0500
TZOFFSETTO:-0600
TZNAME:CST
DTSTART:20241103T070000
END:STANDARD
BEGIN:DAYLIGHT
TZOFFSETFROM:-0600
TZOFFSETTO:-0500
TZNAME:CDT
DTSTART:20250309T080000
END:DAYLIGHT
BEGIN:STANDARD
TZOFFSETFROM:-0500
TZOFFSETTO:-0600
TZNAME:CST
DTSTART:20251102T070000
END:STANDARD
END:VTIMEZONE
BEGIN:VEVENT
DTSTART;TZID=America/Chicago:20240713T173000
DTEND;TZID=America/Chicago:20240713T220000
DTSTAMP:20260423T151707
CREATED:20240324T234706Z
LAST-MODIFIED:20240703T161454Z
UID:160-1720891800-1720908000@familyfellowshipnight.com
SUMMARY:July Family Fellowship Night
DESCRIPTION:
URL:https://familyfellowshipnight.com/event/july-family-fellowship-night/
LOCATION:Hasic’s Home\, 5022 Laura Lane\, Woodworth\, LA\, 71485\, United States
CATEGORIES:Family Fellowship Night
ATTACH;FMTTYPE=image/png:https://familyfellowshipnight.com/wp-content/uploads/2024/06/July-2024-FFN.png
END:VEVENT
BEGIN:VEVENT
DTSTART;TZID=America/Chicago:20240608T163000
DTEND;TZID=America/Chicago:20240608T220000
DTSTAMP:20260423T151707
CREATED:20240324T234602Z
LAST-MODIFIED:20240604T181148Z
UID:157-1717864200-1717884000@familyfellowshipnight.com
SUMMARY:June Family Fellowship Night
DESCRIPTION:
URL:https://familyfellowshipnight.com/event/june-family-fellowship-night/
LOCATION:Hasic’s Home\, 5022 Laura Lane\, Woodworth\, LA\, 71485\, United States
CATEGORIES:Family Fellowship Night
ATTACH;FMTTYPE=image/png:https://familyfellowshipnight.com/wp-content/uploads/2024/06/June-2024-FFN.png
END:VEVENT
BEGIN:VEVENT
DTSTART;TZID=America/Chicago:20240511T163000
DTEND;TZID=America/Chicago:20240511T220000
DTSTAMP:20260423T151707
CREATED:20240324T234449Z
LAST-MODIFIED:20240415T175623Z
UID:154-1715445000-1715464800@familyfellowshipnight.com
SUMMARY:May Family Fellowship Night
DESCRIPTION:
URL:https://familyfellowshipnight.com/event/may-family-fellowship-night/
LOCATION:Hasic’s Home\, 5022 Laura Lane\, Woodworth\, LA\, 71485\, United States
CATEGORIES:Family Fellowship Night
ATTACH;FMTTYPE=image/png:https://familyfellowshipnight.com/wp-content/uploads/2024/04/MayFamilyFellowshipNight.png
END:VEVENT
BEGIN:VEVENT
DTSTART;TZID=America/Chicago:20240413T163000
DTEND;TZID=America/Chicago:20240413T220000
DTSTAMP:20260423T151707
CREATED:20240324T235228Z
LAST-MODIFIED:20240325T015714Z
UID:168-1713025800-1713045600@familyfellowshipnight.com
SUMMARY:April Family Fellowship Night
DESCRIPTION:
URL:https://familyfellowshipnight.com/event/april-family-fellowship-night/
LOCATION:Hasic’s Home\, 5022 Laura Lane\, Woodworth\, LA\, 71485\, United States
CATEGORIES:Family Fellowship Night
END:VEVENT
END:VCALENDAR